BEGIN:VCALENDAR
VERSION:2.0
PRODID:-//The House of Healing DMV, Inc. - ECPv6.15.20//NONSGML v1.0//EN
CALSCALE:GREGORIAN
METHOD:PUBLISH
X-WR-CALNAME:The House of Healing DMV, Inc.
X-ORIGINAL-URL:https://houseofhealingdmv.com
X-WR-CALDESC:Events for The House of Healing DMV, Inc.
REFRESH-INTERVAL;VALUE=DURATION:PT1H
X-Robots-Tag:noindex
X-PUBLISHED-TTL:PT1H
BEGIN:VTIMEZONE
TZID:America/New_York
BEGIN:DAYLIGHT
TZOFFSETFROM:-0500
TZOFFSETTO:-0400
TZNAME:EDT
DTSTART:20240310T070000
END:DAYLIGHT
BEGIN:STANDARD
TZOFFSETFROM:-0400
TZOFFSETTO:-0500
TZNAME:EST
DTSTART:20241103T060000
END:STANDARD
BEGIN:DAYLIGHT
TZOFFSETFROM:-0500
TZOFFSETTO:-0400
TZNAME:EDT
DTSTART:20250309T070000
END:DAYLIGHT
BEGIN:STANDARD
TZOFFSETFROM:-0400
TZOFFSETTO:-0500
TZNAME:EST
DTSTART:20251102T060000
END:STANDARD
BEGIN:DAYLIGHT
TZOFFSETFROM:-0500
TZOFFSETTO:-0400
TZNAME:EDT
DTSTART:20260308T070000
END:DAYLIGHT
BEGIN:STANDARD
TZOFFSETFROM:-0400
TZOFFSETTO:-0500
TZNAME:EST
DTSTART:20261101T060000
END:STANDARD
END:VTIMEZONE
BEGIN:VEVENT
DTSTART;TZID=America/New_York:20250503T110000
DTEND;TZID=America/New_York:20250503T140000
DTSTAMP:20260419T110846
CREATED:20250130T191349Z
LAST-MODIFIED:20250413T024727Z
UID:10001092-1746270000-1746280800@houseofhealingdmv.com
SUMMARY:Ladies of Legacy: Let's Talk Couch Edition w/ Co-Pastor Qui
DESCRIPTION:
URL:https://houseofhealingdmv.com/event/ladies-of-legacy-social-event/
LOCATION:HOHDMV – Sanctuary\, 1206 Doewood Lane\, Capitol Heights\, MD\, 20743\, United States
END:VEVENT
END:VCALENDAR